BEGIN:VCALENDAR
VERSION:2.0
PRODID:-//Ultra - ECPv6.15.20//NONSGML v1.0//EN
CALSCALE:GREGORIAN
METHOD:PUBLISH
X-WR-CALNAME:Ultra
X-ORIGINAL-URL:https://ultra-lehti.com
X-WR-CALDESC:Tapahtumat Ultra
REFRESH-INTERVAL;VALUE=DURATION:PT1H
X-Robots-Tag:noindex
X-PUBLISHED-TTL:PT1H
BEGIN:VTIMEZONE
TZID:UTC
BEGIN:STANDARD
TZOFFSETFROM:+0000
TZOFFSETTO:+0000
TZNAME:UTC
DTSTART:20220101T000000
END:STANDARD
END:VTIMEZONE
BEGIN:VEVENT
DTSTART;TZID=UTC:20230901T150000
DTEND;TZID=UTC:20230903T150000
DTSTAMP:20260421T160451
CREATED:20230328T123523Z
LAST-MODIFIED:20230823T053243Z
UID:26856-1693580400-1693753200@ultra-lehti.com
SUMMARY:Kansainvälinen Ufoseminaari ja Suomen Ufotutkijat 50v 1.-3.9.2023 Espoo
DESCRIPTION:Suomen Ufotutkijat ry \nKANSAINVÄLINEN UFO-SEMINAARI\, SUT RY – 50 VUOTTA \n1.-3.9.2023 \nHuom! Paikka muuttunut! Hotelli Korpilampi\, Korpilammentie 5\, 02970 Espoo 
URL:https://ultra-lehti.com/event/kansainvalinen-ufoseminaari-ja-suomen-ufotutkijat-50v-1-3-9-2023-petays/
LOCATION:Hotelli Korpilampi\, korpilammentie 5\, Espoo\, 02970
ATTACH;FMTTYPE=image/jpeg:https://ultra-lehti.com/wp-content/uploads/2023/03/korpilampi-Ufoseminaari.jpg
END:VEVENT
END:VCALENDAR