BEGIN:VCALENDAR
VERSION:2.0
PRODID:-//Ultra - ECPv6.15.20//NONSGML v1.0//EN
CALSCALE:GREGORIAN
METHOD:PUBLISH
X-ORIGINAL-URL:https://ultra-lehti.com
X-WR-CALDESC:Tapahtumat Ultra
REFRESH-INTERVAL;VALUE=DURATION:PT1H
X-Robots-Tag:noindex
X-PUBLISHED-TTL:PT1H
BEGIN:VTIMEZONE
TZID:UTC
BEGIN:STANDARD
TZOFFSETFROM:+0000
TZOFFSETTO:+0000
TZNAME:UTC
DTSTART:20220101T000000
END:STANDARD
END:VTIMEZONE
BEGIN:VEVENT
DTSTART;TZID=UTC:20231209T110000
DTEND;TZID=UTC:20231210T170000
DTSTAMP:20260426T022525
CREATED:20231111T154128Z
LAST-MODIFIED:20231113T061337Z
UID:32241-1702119600-1702227600@ultra-lehti.com
SUMMARY:Festiva Magica Jyväskylässä 9.-10.12.
DESCRIPTION:• Henkinen kasvu • Astrologia • Meditaatio • Shamanismi • Luonnonlääkintä • Energiaparantaminen • Parantavat kivet & kristallit • Soundhealing • Musiikkia • Luentoja…\n\n  \nPaikka: Aalto-sali\nVäinönkatu 7\, 40100\, Jyväskylä \nAika: La klo 11-20 Su klo 10-17 \nLiput:\nLa-su: 50€ (45€ ennakko)\nLa: 40 € (ennakko 35€)\nSu: 40€ (ennakko 35€) \n\nOhjelmassa mm.  Antti Launonen\, Julia Kuu\, Anja Kadziolka\, Antti Aalto & Iris Soihtusydän\, Tero Suhonen ja Anne Puolakanaho\, Maiju Nurmesniemi\, Annika Schauman\, Jenni Turku\, Minna Linkola\, Mikael Kivivuori\, Antti Häyhä\, Janne Laakso\, Kati ”Kiri” Hoffström\, Tuomas Kytömäki\, Tiina Launonen\, Jutta Niala\, Jan-Mikael Maros\, Päivi Kaskimäki.
URL:https://ultra-lehti.com/event/festiva-magica-jyvaskylassa-9-10-12/
LOCATION:aaltosali\, väinönkatu 7\, Jyväskylä\, 40100\, Suomi
ATTACH;FMTTYPE=image/jpeg:https://ultra-lehti.com/wp-content/uploads/2023/11/festiva-magica-jyvaskyla.jpg
END:VEVENT
END:VCALENDAR