BEGIN:VCALENDAR
VERSION:2.0
PRODID:-//Ultra - ECPv6.15.20//NONSGML v1.0//EN
CALSCALE:GREGORIAN
METHOD:PUBLISH
X-WR-CALNAME:Ultra
X-ORIGINAL-URL:https://ultra-lehti.com
X-WR-CALDESC:Tapahtumat Ultra
REFRESH-INTERVAL;VALUE=DURATION:PT1H
X-Robots-Tag:noindex
X-PUBLISHED-TTL:PT1H
BEGIN:VTIMEZONE
TZID:UTC
BEGIN:STANDARD
TZOFFSETFROM:+0000
TZOFFSETTO:+0000
TZNAME:UTC
DTSTART:20230101T000000
END:STANDARD
END:VTIMEZONE
BEGIN:VEVENT
DTSTART;TZID=UTC:20241204T110000
DTEND;TZID=UTC:20241204T160000
DTSTAMP:20260421T154320
CREATED:20241129T172638Z
LAST-MODIFIED:20241129T173610Z
UID:38365-1733310000-1733328000@ultra-lehti.com
SUMMARY:Ultrapuodin adventtiajan tunnelmaa
DESCRIPTION:Tervetuloa ostamaan joululahja-kirjat Ultrapuodista ja tervehtimään Ultran väkeä. \nUltrapuoti on auki klo  aamusta n. klo 16 iltapäivällä.\n  \nPaikalla ilmainen kahvitarjoilu ja pientä purtavaa. Pihalla myös elävä tuli\, voit ottaa omat makkarat mukaan. \nKoko Ultrapuodin valikoima on esillä!\nMyös rajatiedon antikvariaatteja\, kaikki Ultra-lehdet\, lahja-ideoita\, uutuuskortteja ja tarotteja jne. jne.
URL:https://ultra-lehti.com/event/ultrapuodin-adventtiajan-tunnelmaa/
LOCATION:Kylämä\, Salojärventie 36\, Kylämä\, 17950\, Suomi
ATTACH;FMTTYPE=image/jpeg:https://ultra-lehti.com/wp-content/uploads/2024/11/DSC_0357-scaled.jpg
END:VEVENT
BEGIN:VEVENT
DTSTART;TZID=UTC:20241207T110000
DTEND;TZID=UTC:20241208T170000
DTSTAMP:20260421T154320
CREATED:20241113T072204Z
LAST-MODIFIED:20241113T072612Z
UID:37982-1733569200-1733677200@ultra-lehti.com
SUMMARY:Festiva Magica Jyväskylä
DESCRIPTION:7.-8.12.2024 Jyväskylä\nLA KLO 11-19 SU KLO 10-17 \nOhjelmassa mm.: \nSamuli Perälä\, Antti Launonen\, Jarkko Eve\, Anu Sinisalo\, Jutta Niala\, Minna Kokki\, Antti Häyhä\, Jan-Mikael Maros\, Metsälintu\, Antti Aalto\, Marko Vapa\, \nJenni Turku\, Maiju Nurmesniemi\, Roosa Okano\, Hertta Holopainen\, Annika Schauman\, Mervi Kumpulainen. \n  on myös mukana isolla osastolla! \n\n\nNäytteilleasettajia Festiva Magicassa 7.-8.12.2024\n\n\n\n\nKymmenes Festiva Magica Yule pidetään 7.-8.12.2024 Jyväskylässä\, Aalto-salilla – tule mukaan! Näytteilleasettajapaikkoja on rajoitetusti tarjolla. \nPöytäpaikat kahdelle päivälle:\n• Pieni pöytä 125 x 45 cm: 78€ + alv. 25\,5% = 97\,89€\n• Iso pöytä 125 x 90 cm: 98€ + alv. 25\,5% = 122\,99€\n• Tupla iso pöytä 250 x 90 cm: 178€ + alv. 25\,5% = 223\,39€ \nTiedustelut: Antti Häyhä\, info@magicafest.com
URL:https://ultra-lehti.com/event/festiva-magica-jyvaskyla/
LOCATION:aaltosali\, väinönkatu 7\, Jyväskylä\, 40100\, Suomi
ATTACH;FMTTYPE=image/jpeg:https://ultra-lehti.com/wp-content/uploads/2024/11/festiva-magica-jkl.jpg
ORGANIZER;CN="Antti H%C3%A4yh%C3%A4":MAILTO:info@macigafest.com
END:VEVENT
END:VCALENDAR