BEGIN:VCALENDAR
VERSION:2.0
PRODID:-//Ultra - ECPv6.15.20//NONSGML v1.0//EN
CALSCALE:GREGORIAN
METHOD:PUBLISH
X-ORIGINAL-URL:https://ultra-lehti.com
X-WR-CALDESC:Tapahtumat Ultra
REFRESH-INTERVAL;VALUE=DURATION:PT1H
X-Robots-Tag:noindex
X-PUBLISHED-TTL:PT1H
BEGIN:VTIMEZONE
TZID:UTC
BEGIN:STANDARD
TZOFFSETFROM:+0000
TZOFFSETTO:+0000
TZNAME:UTC
DTSTART:20230101T000000
END:STANDARD
END:VTIMEZONE
BEGIN:VEVENT
DTSTART;TZID=UTC:20241005T100000
DTEND;TZID=UTC:20241005T170000
DTSTAMP:20260425T143112
CREATED:20240905T090103Z
LAST-MODIFIED:20240905T090623Z
UID:37167-1728122400-1728147600@ultra-lehti.com
SUMMARY:Ilon Valkeat Oulussa 5.10.
DESCRIPTION:Ilon Valkeat tulee Ouluun Hiukkavaaratalolle la 5.10.! \nTalo täynnä ohjelmaa ja näytteilleasettajia\, tuttuja ja tuntemattomia! Tapahtumassa on myös kahvila ja lounasravintola. \n on myös mukana tapahtumassa monipuolisella kattauksella. \n  \nMukana messuilla on monipuolinen joukko näytteilleasettajia\, hoitoja\, tulkintoja jne. \nMessut ovat kengättömät\, joten ota mukaan sisäkengät tai villasukat. \n\nKlikkaa ohjelma isommaksi kuvasta. \nVaraa itsellesi messuviikonloppuna yöpyminen Hotelli Apollosta. \nMessukävijänä saat -10% alennuksen majoituksen hinnasta koodilla ilonvalkeat.  \nLauantaina järjestetään hotellin edestä kimppakyyti messupaikalle. https://www.hotelapollo.fi/ \nBest Western Hotel Apollo\, Asemakatu 31-33\, Oulu\,p. 08 522 11\,hotel@hotelapollo.fi
URL:https://ultra-lehti.com/event/ilon-valkeat-oulussa-5-10/
LOCATION:Hiukkavaaratalo\, Tahtimarssi 3\, Oulu\, Tahtimarssi 3\, Oulu\, Suomi
ATTACH;FMTTYPE=image/png:https://ultra-lehti.com/wp-content/uploads/2024/09/Mainos-ILON-Valkea-5.10.png
END:VEVENT
BEGIN:VEVENT
DTSTART;TZID=UTC:20241012T100000
DTEND;TZID=UTC:20241013T170000
DTSTAMP:20260425T143112
CREATED:20240313T114746Z
LAST-MODIFIED:20241008T080228Z
UID:34393-1728727200-1728838800@ultra-lehti.com
SUMMARY:Hengen ja Tiedon messut
DESCRIPTION:Vuoden 2024 teemamme\, ’Transformaation aika’\, kutsuu meitä kohtaamaan muutoksen mysteerin\, henkisen kasvun ja tiedon syvemmän ymmärryksen.  \nTämä on ainutlaatuinen tilaisuus yhdistää mieli\, keho ja sielu\, ja tutkia henkisyyden rajoja yhdessä asiantuntijoiden ja samanhenkisten kanssa.  \nValmistaudu kokemaan maagisia hetkiä ja syvällisiä oivalluksia. \n  \nMessujen aukioloaika: la klo 10-18 su klo 10-17 \n  \nTalo täynnä näytteilleasettajia kolmessa kerroksessa! Tervetuloa viihtymään Suomalaiselle Yhteiskoululle Etelä-Haagaan. \nKatso päiväkohtainen messuohjelma: https://www.rajatieto.fi/hengen-ja-tiedon-messut/messuohjelma/ \nTilaa messulehti itsellesi ilmaiseksi: https://ultra-lehti.com/tuote/hengen-tiedon-messut-2024-messulehti/ tai puh. 03-5558101 tai tilaukset@ultra-lehti.com \nULTRA on mukana isolla osastolla 1. kerroksen pääaulassa. Tervetuloa tekemään löytöjä! \nHuom! Ultrassa 6/24 oli virheellisesti Are Thoresenin luennon tulkkauksesta englanniksi. Luento siis tulkataan suomeksi.
URL:https://ultra-lehti.com/event/hengen-ja-tiedon-messut-2/
LOCATION:Helsingin Suomalainen Yhteiskoulu\, Isonnevantie 8\, Helsinki\, 00320\, Suomi
ATTACH;FMTTYPE=image/jpeg:https://ultra-lehti.com/wp-content/uploads/2024/03/Hengen-ja-tiedon-messut-2024.jpg
END:VEVENT
BEGIN:VEVENT
DTSTART;TZID=UTC:20241026T100000
DTEND;TZID=UTC:20241026T160000
DTSTAMP:20260425T143112
CREATED:20241021T150602Z
LAST-MODIFIED:20241023T041608Z
UID:37734-1729936800-1729958400@ultra-lehti.com
SUMMARY:Mystiikkaa ja magiaa Kuopiossa
DESCRIPTION:  \nVAPAA PÄÄSY! \nMinna Kauppakeskuksen syksyisessä Mystiikkaa & Magiaa -tapahtumassa lauantaina 26.10. klo 10–16 tapaat taidokkaita käsityöläisiä\, yrttien\, amulettien ja voimaesineiden asiantuntijoita sekä tietäjät läheltä ja vähän kauempaakin! \nMystiikkaa & Magiaa on tietäjäperinteitä ja luontoyhteyttä kunnioittava tapahtuma\, jossa maagiset käsityöläiset\, mystiset tulkitsijat ja hämmästyttävät näkijät levittäytyvät Minnan kerroksiin tuotteineen ja palveluineen! \nTapahtumassa pääset vaikuttumaan Minnan stagelle nousevista taianomaisista esiintyjistä – mielenkiintoisista persoonista\, laulajista ja lauluntekijöistä – sekä nauttimaan keskusteluista ja sielunruoasta pintaa syvemmältä. \nHaluaisitko hidastaa tahtia – tai kaipaatko lisää henkisyyttä elämääsi? Pidätkö käsitöistä\, yrteistä\, amuleteista ja voimaesineistä? Tervetuloa nauttimaan taianomaisesta tunnelmasta! \nTapahtuman juontajana toimii ihastuttava Kuparikettu! \n  \n  on myös mukana tapahtumassa. \n  \nLAVAOHJELMA  \n10.00 Uinu\, alkurummutus \n10.10 Kuparikettu\, alkusanat \n10.25 Nevatar: Puiden voimat noituudessa ja kansanperinteessä \n10.45 Platina: Henkisyys \n11.15 Uinu esiintyy \n11.50 Johanna Karpov luennoi aiheesta Syklinen aika \n12.10 Jukka Muhonen: Kristallikallot \n12.40 Niina Annika: Syksyinen äänimatka \n13.20 Indigoilves Kuparikettun haastattelussa \n13.35 Virpi Jarvi: Kanavointi – henkimaailman viestit \n14.00 Sanna Myllylä\, itämainen vatsatanssi \n14.40 Miia Hiltunen: Äänimatka \n15.00 Hetki Kohtaamiselle/Kirsi\, Kupariketun haastattelussa. Oma laulu. \n15.15 Kuparikettu\, päätössanat (Sawon Noita & Ihmeakka) \n15.50 Uinu\, loppurummutus
URL:https://ultra-lehti.com/event/mystiikkaa-ja-magiaa-minnassa/
LOCATION:Hyvinvointitapahtuma Minnassa\, Haapaniemenkatu 18\, Kuopio\, 70110\, Suomi
ATTACH;FMTTYPE=image/jpeg:https://ultra-lehti.com/wp-content/uploads/2024/10/Nimeton.jpg
END:VEVENT
END:VCALENDAR