BEGIN:VCALENDAR
VERSION:2.0
PRODID:-//Ultra - ECPv6.15.20//NONSGML v1.0//EN
CALSCALE:GREGORIAN
METHOD:PUBLISH
X-ORIGINAL-URL:https://ultra-lehti.com
X-WR-CALDESC:Tapahtumat Ultra
REFRESH-INTERVAL;VALUE=DURATION:PT1H
X-Robots-Tag:noindex
X-PUBLISHED-TTL:PT1H
BEGIN:VTIMEZONE
TZID:Europe/Helsinki
BEGIN:DAYLIGHT
TZOFFSETFROM:+0200
TZOFFSETTO:+0300
TZNAME:EEST
DTSTART:20240331T010000
END:DAYLIGHT
BEGIN:STANDARD
TZOFFSETFROM:+0300
TZOFFSETTO:+0200
TZNAME:EET
DTSTART:20241027T010000
END:STANDARD
BEGIN:DAYLIGHT
TZOFFSETFROM:+0200
TZOFFSETTO:+0300
TZNAME:EEST
DTSTART:20250330T010000
END:DAYLIGHT
BEGIN:STANDARD
TZOFFSETFROM:+0300
TZOFFSETTO:+0200
TZNAME:EET
DTSTART:20251026T010000
END:STANDARD
BEGIN:DAYLIGHT
TZOFFSETFROM:+0200
TZOFFSETTO:+0300
TZNAME:EEST
DTSTART:20260329T010000
END:DAYLIGHT
BEGIN:STANDARD
TZOFFSETFROM:+0300
TZOFFSETTO:+0200
TZNAME:EET
DTSTART:20261025T010000
END:STANDARD
END:VTIMEZONE
BEGIN:VEVENT
DTSTART;TZID=Europe/Helsinki:20250222T100000
DTEND;TZID=Europe/Helsinki:20250222T170000
DTSTAMP:20260423T115218
CREATED:20250204T102951Z
LAST-MODIFIED:20250204T102951Z
UID:39588-1740218400-1740243600@ultra-lehti.com
SUMMARY:Ilon Valkeat Oulu
DESCRIPTION:la 22.2.2025\nklo 10.00-17.00\nHiukkavaaratalolla\n  \nUltra on myös mukana tunnelmallisessa tapahtumassa! \n  \nMessut ovat kengättömät! Ota mukaan villasukat tai sisäkengät! \nILON Valkeilla on kahvila sekä lounasravintola. \nKatso näytteilleasettajia: \nKatso ohjelmaa:
URL:https://ultra-lehti.com/event/ilon-valkeat-oulu/
LOCATION:Hiukkavaaratalo\, Tahtimarssi 3\, Oulu\, Tahtimarssi 3\, Oulu\, Suomi
ATTACH;FMTTYPE=image/jpeg:https://ultra-lehti.com/wp-content/uploads/2025/02/7c29cd66-6c5e-41e7-afca-2c9450e48c9d.jpeg
END:VEVENT
END:VCALENDAR