BEGIN:VCALENDAR
VERSION:2.0
PRODID:-//Ultra - ECPv6.15.20//NONSGML v1.0//EN
CALSCALE:GREGORIAN
METHOD:PUBLISH
X-ORIGINAL-URL:https://ultra-lehti.com
X-WR-CALDESC:Tapahtumat Ultra
REFRESH-INTERVAL;VALUE=DURATION:PT1H
X-Robots-Tag:noindex
X-PUBLISHED-TTL:PT1H
BEGIN:VTIMEZONE
TZID:Europe/Helsinki
BEGIN:DAYLIGHT
TZOFFSETFROM:+0200
TZOFFSETTO:+0300
TZNAME:EEST
DTSTART:20240331T010000
END:DAYLIGHT
BEGIN:STANDARD
TZOFFSETFROM:+0300
TZOFFSETTO:+0200
TZNAME:EET
DTSTART:20241027T010000
END:STANDARD
BEGIN:DAYLIGHT
TZOFFSETFROM:+0200
TZOFFSETTO:+0300
TZNAME:EEST
DTSTART:20250330T010000
END:DAYLIGHT
BEGIN:STANDARD
TZOFFSETFROM:+0300
TZOFFSETTO:+0200
TZNAME:EET
DTSTART:20251026T010000
END:STANDARD
BEGIN:DAYLIGHT
TZOFFSETFROM:+0200
TZOFFSETTO:+0300
TZNAME:EEST
DTSTART:20260329T010000
END:DAYLIGHT
BEGIN:STANDARD
TZOFFSETFROM:+0300
TZOFFSETTO:+0200
TZNAME:EET
DTSTART:20261025T010000
END:STANDARD
END:VTIMEZONE
BEGIN:VEVENT
DTSTART;TZID=Europe/Helsinki:20250215T100000
DTEND;TZID=Europe/Helsinki:20250215T170000
DTSTAMP:20260423T114013
CREATED:20250204T131536Z
LAST-MODIFIED:20250210T130635Z
UID:39594-1739613600-1739638800@ultra-lehti.com
SUMMARY:Valoa Kohti 5
DESCRIPTION:Valoa kohti 5 tapahtumassa on luentoja\, hoitoja ja tulkintoja.Sisään pääsee ilmaiseksi ja kaikille luennoille yhteinen ovimaksu 10 €/ päivä. \nMukana on myös pieni valikoima Ultran tuotteita ja uusimpia lehtiä sekä arvonta! \nTapahtumassa mm. Markku Mäkinen\, Jukka Viertomanner\, Asko Nummela\, Kaisa Anttila jne. \n  \n 
URL:https://ultra-lehti.com/event/valoa-kohti-5/
LOCATION:Mairen putiikki\, Keskuskatu 23\, Jokioinen\, 31600\, Finland
ATTACH;FMTTYPE=image/jpeg:https://ultra-lehti.com/wp-content/uploads/2025/02/Valoa-kohti-5.jpg
ORGANIZER;CN="Maire Seutu":MAILTO:maire.seutu@hotmail.com
END:VEVENT
END:VCALENDAR