BEGIN:VCALENDAR
VERSION:2.0
PRODID:-//Ultra - ECPv6.15.20//NONSGML v1.0//EN
CALSCALE:GREGORIAN
METHOD:PUBLISH
X-ORIGINAL-URL:https://ultra-lehti.com
X-WR-CALDESC:Tapahtumat Ultra
REFRESH-INTERVAL;VALUE=DURATION:PT1H
X-Robots-Tag:noindex
X-PUBLISHED-TTL:PT1H
BEGIN:VTIMEZONE
TZID:UTC
BEGIN:STANDARD
TZOFFSETFROM:+0000
TZOFFSETTO:+0000
TZNAME:UTC
DTSTART:20230101T000000
END:STANDARD
END:VTIMEZONE
BEGIN:VEVENT
DTSTART;TZID=UTC:20241102T080000
DTEND;TZID=UTC:20241103T170000
DTSTAMP:20260425T161415
CREATED:20241023T041504Z
LAST-MODIFIED:20241023T041504Z
UID:37769-1730534400-1730653200@ultra-lehti.com
SUMMARY:Voi Pyhä Jyssäys Joensuussa
DESCRIPTION:TERVETULOA SYKÄHDYTTÄVÄÄN HYVINVOINTITAPAHTUMAAN! \n\nTarjolla on monipuolinen kattaus luentoja ja tietoiskuja\, rentoutusta ja meditaatiota sekä erilaisia työpajoja.\nMukana on kymmeniä hyvinvointiin keskittyviä näytteilleasettajia.\nKatso tiedot ohjelmien sisällöstä OHJELMAT LA ja OHJELMAT SU -sivuilta.\n\nAika: la 2.11 klo 10-18  \nja su 3.11 klo 10-16.  \nLauantai-iltana lisäksi ohjelmallinen ILTA-JYSSÄYS klo 18.30 alkaen. \n  \n    ON MUKANA TAPAHTUMASSA MONIPUOLISELLA KATTAUKSELLA! 
URL:https://ultra-lehti.com/event/voi-pyha-jyssays-joensuussa/
LOCATION:Joensuun yhteiskoulun lukio\, Papinkatu 3\, Joensuu\, 80110\, Finland
ATTACH;FMTTYPE=image/jpeg:https://ultra-lehti.com/wp-content/uploads/2024/10/FLYER-2024-face.jpg
END:VEVENT
END:VCALENDAR