BEGIN:VCALENDAR
VERSION:2.0
PRODID:-//Ultra - ECPv6.15.20//NONSGML v1.0//EN
CALSCALE:GREGORIAN
METHOD:PUBLISH
X-ORIGINAL-URL:https://ultra-lehti.com
X-WR-CALDESC:Tapahtumat Ultra
REFRESH-INTERVAL;VALUE=DURATION:PT1H
X-Robots-Tag:noindex
X-PUBLISHED-TTL:PT1H
BEGIN:VTIMEZONE
TZID:UTC
BEGIN:STANDARD
TZOFFSETFROM:+0000
TZOFFSETTO:+0000
TZNAME:UTC
DTSTART:20230101T000000
END:STANDARD
END:VTIMEZONE
BEGIN:VEVENT
DTSTART;TZID=UTC:20240525T100000
DTEND;TZID=UTC:20240526T150000
DTSTAMP:20260426T051511
CREATED:20240222T132736Z
LAST-MODIFIED:20240318T085913Z
UID:33976-1716631200-1716735600@ultra-lehti.com
SUMMARY:Halolla Päähän 25.-26.5.2024 Toholampi
DESCRIPTION:Henkinen hyvinvointitapahtuma HALOLLA PÄÄHÄN\n25.-26.5.2024 Hirvikosken kurssikeskus\nMukana menossa mm.  Aavedata\, Elina Jaatinen\, Samuli Perälä\, Antti Launonen\, Seppo Tanhua\, Susanna Miettinen\, Heikki Kulju ja monia muita.\nMyös  ! \n  \nHirvikosken kurssikeskus tarjoaa tapahtumalle hienot puitteet\, lounasruokailun\, saunat jne. \n 
URL:https://ultra-lehti.com/event/halolla-paahan-25-26-5-2024-toholampi/
LOCATION:Halolla päähän\, Tornikoskentie 50\, Sykäräinen\, 69410\, Suomi
ATTACH;FMTTYPE=image/jpeg:https://ultra-lehti.com/wp-content/uploads/2024/02/toholampi.jpg
END:VEVENT
END:VCALENDAR