BEGIN:VCALENDAR
VERSION:2.0
PRODID:-//Ultra - ECPv6.15.20//NONSGML v1.0//EN
CALSCALE:GREGORIAN
METHOD:PUBLISH
X-WR-CALNAME:Ultra
X-ORIGINAL-URL:https://ultra-lehti.com
X-WR-CALDESC:Tapahtumat Ultra
REFRESH-INTERVAL;VALUE=DURATION:PT1H
X-Robots-Tag:noindex
X-PUBLISHED-TTL:PT1H
BEGIN:VTIMEZONE
TZID:UTC
BEGIN:STANDARD
TZOFFSETFROM:+0000
TZOFFSETTO:+0000
TZNAME:UTC
DTSTART:20230101T000000
END:STANDARD
END:VTIMEZONE
BEGIN:VEVENT
DTSTART;TZID=UTC:20240427T090000
DTEND;TZID=UTC:20240428T183000
DTSTAMP:20260426T064152
CREATED:20240409T064529Z
LAST-MODIFIED:20240418T065043Z
UID:35065-1714208400-1714329000@ultra-lehti.com
SUMMARY:*PERUUNTUNUT!* Portti sisimpään -viikonlopputapahtuma 27.-28.4.
DESCRIPTION:VALITETTAVASTI TAPAHTUMA ON JOUDUTTU PERUMAAN. \n  \npaikka: Opiston Kunkku\, Lahti\, \nHarjukatu 46\, 15100 LAHTI \n  \nESIINTYJÄT\nAdam Berry\, meedio-opettaja Arthur Findlay College (UK) \nAdam Berryn tulkkina Anuirmeli Sallamo-Lavi \nKuparikettu & Platina\, modernin henkisyyden ohjaajat \nTeija Purmola\, meedio & selvänäkijä \nTimo Kalliokoski\, sideerinen astrologi\, kabbala ja tarot \nMarja Aavapuro\, musiikki (la) \nIlmari Lavi\, musiikki (su) \n  \nPäivälippu la tai su 60€ \nviikonloppulippu la ja su 95€ \nYksityisistunnot & työpajat erikseen ostettavissa \n  \nJärjestäjänä Lahden seudun henkinen kasvu ry. \n Myös mukana tapahtumassa! \n 
URL:https://ultra-lehti.com/event/portti-sisimpaan-viikonlopputapahtuma-27-28-4/
LOCATION:Harjukatu 46\, 15100 LAHTI\, Harjukatu 46\, Lahti\, 15100
ATTACH;FMTTYPE=image/png:https://ultra-lehti.com/wp-content/uploads/2024/04/porttisisimpaanpelkkakuva.png
END:VEVENT
BEGIN:VEVENT
DTSTART;TZID=UTC:20240427T103000
DTEND;TZID=UTC:20240427T180000
DTSTAMP:20260426T064152
CREATED:20240220T064646Z
LAST-MODIFIED:20240220T064646Z
UID:33909-1714213800-1714240800@ultra-lehti.com
SUMMARY:Metsätähtisäätiö Vääksy kevät tapahtuma 27.4.
DESCRIPTION:Järjestäjänä Allan Kardecin opin ystävät ry \n  \n”Valoa kohti” on Allan Kardecin opin ystävät ry:n kevättapahtuma. Ohjelmassa on varattu aikaa keskusteluun ja kysymyksiin niin luentojen lopuksi kuin myös tauoilla.\nTule kuuntelemaan ja ota tapahtumasta mahdollisesti kiinnostuneet ystäväsikin mukaan.\nTapaamisiin Vääksyssä\, Päijänteen rannalla! \nLuennoitsijat: \nJohanna Blomqvist ja Pekka Kaarakainen. \nTilaisuuteen on vapaa pääsy. Paikkoja rajoitetusti. Ilmoittautuminen linkistä tai sähköpostitse: tiedote@allankardec.fi sunnuntaihin 21.4.2024 mennessä. \nhttps://forms.office.com/e/DUxnGbbUvn
URL:https://ultra-lehti.com/event/metsatahtisaatio-vaaksy-kevat-tapahtuma-27-4/
LOCATION:Mestätähtisäätiö\, Mikkolantie 44\, Vääksy\, 17200\, Suomi
ATTACH;FMTTYPE=image/png:https://ultra-lehti.com/wp-content/uploads/2024/02/Metsatahtisaatio-logo.png
END:VEVENT
BEGIN:VEVENT
DTSTART;TZID=UTC:20240427T110000
DTEND;TZID=UTC:20240427T170000
DTSTAMP:20260426T064152
CREATED:20240318T090558Z
LAST-MODIFIED:20240425T060840Z
UID:34452-1714215600-1714237200@ultra-lehti.com
SUMMARY:*TÄYNNÄ!* Ufo-luentotilaisuus Tampere\, Laikku *TÄYNNÄ*
DESCRIPTION:Suomen Ufotutkijat ry\, Laikku\, Keskustori 4\, luentosali 2. krs\n27.4. la klo 11-17 Ufo-luentotilaisuus. \nKaikki 70 paikkaa on varattu ennakkoon ja lisää ei turvallisuusmääräysten takia saa ottaa. Ilmoittamatta ei kannata lähteä tulemaan.\nKaikki ilmoittautuneet tervetuloa! \nJouko Kärkelä: Meitä kehittyneemmät olennot ufologisessa perinteessä. \nJozsef Strausz: Paljastuksia maapallon sisältä. \nGary Heseltine: Brittiläistä ufotutkimusta –tapaus Rendleshan Forest. \nULTRA ON MUKANA UFO- JA ERIKOISKIRJAVALIKOIMALLAAN!
URL:https://ultra-lehti.com/event/ufo-luentotilaisuus-tampere-laikku/
LOCATION:Laikku\, Keskustori 4\, Tampere\, 33100\, Suomi
ATTACH;FMTTYPE=image/jpeg:https://ultra-lehti.com/wp-content/uploads/2024/03/ufo-luentotilaisuus-laikku.jpg
END:VEVENT
END:VCALENDAR