BEGIN:VCALENDAR
VERSION:2.0
PRODID:-//Ultra - ECPv6.15.20//NONSGML v1.0//EN
CALSCALE:GREGORIAN
METHOD:PUBLISH
X-ORIGINAL-URL:https://ultra-lehti.com
X-WR-CALDESC:Tapahtumat Ultra
REFRESH-INTERVAL;VALUE=DURATION:PT1H
X-Robots-Tag:noindex
X-PUBLISHED-TTL:PT1H
BEGIN:VTIMEZONE
TZID:UTC
BEGIN:STANDARD
TZOFFSETFROM:+0000
TZOFFSETTO:+0000
TZNAME:UTC
DTSTART:20230101T000000
END:STANDARD
END:VTIMEZONE
BEGIN:VEVENT
DTSTART;TZID=UTC:20240420T100000
DTEND;TZID=UTC:20240420T160000
DTSTAMP:20260426T064452
CREATED:20240222T131852Z
LAST-MODIFIED:20240419T052441Z
UID:33972-1713607200-1713628800@ultra-lehti.com
SUMMARY:Tie tasapainoon -messut 20.4. Parkano
DESCRIPTION:Paikka Parkanon urheilutalo\, Niementie 10 \nAika klo 10-16 \nKokoamme messupäivään Pirkanmaalle Parkanon urheilutaloon vaihtoehtoisen terveydenhoidon eri alueiden toimijoita\, läntisestä Suomesta sekä kauempaakin. Messujen teemana on sinun hyvä olosi! Päivässä voit kokeilla eri hoitomuotoja esim. energiahoitoa\, jäsenkorjausta\, reikihoitoa\, kasvojenhoitoa\, jalkojen hoitoa jne.. Voit myös tutustua Tarotkorttien-\, astrologian-\, numerologian ja selvänäköiseen maailmaan. Sekä voit tutustua Aura-Soma väriterapiaan\, kädestä katsomiseen jne. jne. \n\nPäivässä palvelee myös keittiö/kahvio\, jossa tarjolla edullisesti pikkusuolaista makkaraa/karjalanpiirakoita\, kahvia\, teetä\, pullaa & muita kahvileipiä\, makeisia jne.. \nMyös luentoja! Mukana mm. Jukka Viertomanner\, Klaus Rahikainen\, Samuli Perälä\, Irene Länkinen\, Susanna Niemi… Messupäivän hinta on 10e\, joka sisältää pääsymaksun ja kaikki luennot. Tule paikalle klo 13 mennessä niin voit voittaa äänimaljarentoutuksen. \n\nMukana myös  \n  \n 
URL:https://ultra-lehti.com/event/tie-tasapainoon-messut-20-4-parkano/
LOCATION:Tie tasapainoon\, Niementie 10\, Parkano\, 39700\, Suomi
ATTACH;FMTTYPE=image/jpeg:https://ultra-lehti.com/wp-content/uploads/2024/02/tie-tasapainoon.jpg
ORGANIZER;CN="Mika Haaro":MAILTO:mikahaaro@gmail.com
END:VEVENT
BEGIN:VEVENT
DTSTART;TZID=UTC:20240420T100000
DTEND;TZID=UTC:20240420T170000
DTSTAMP:20260426T064452
CREATED:20240222T133041Z
LAST-MODIFIED:20240328T112618Z
UID:33979-1713607200-1713632400@ultra-lehti.com
SUMMARY:Hyvinvointitapahtuma 20.4. Kuopio
DESCRIPTION:Kauppakeskus Minnassa\, ilmainen sisäänpääsy! \nHyvinvointitapahtumassa on tarjolla monipuolista ohjelmaa Minna Stagella\, kauppakeskuksen 1. kerroksessa. \n\n10 Tapahtuman avaus Marianne Kiukkonen\n10.30 Äänimaljat soikoon! Saija Nivamo/ Hyvä Energia\n11 Kokonaisvaltainen hyvinvointi / Kuopion Fressi\n12 Mitä on Hyvinvointimatkat? Päivi Bigovic / Tilausmatkat\n12.30 Ohjattu hengitysharjoitus. Ida Parviainen / Joogaida\n13 Kuinka löytää korkein onnellisuus? Taavi Kassila; elokuvaohjaaja\, kirjailija ja joogaopettaja.\n14 Itämaisen Vatsatanssin Esitys. Kuopiolainen Itämaisen vatsatanssin ryhmä\, jonka opettajana toimii Sanna Myllylä.\n14.30 Kvanttikonstellaatio Virve Vesamäki\n15.15 Tankotanssi-esitys / Pole Center Kuopio\n15.30 Hypnoosin parantava voima Jani Tirkkonen\n16 Tapahtuman päätös / Marianne Kiukkonen\n\n\n\n\nHaapaniemenkatu 18\, 70110 Kuopio \nMyös  mukana hyvinvointi\, terveys ja henkisyys painotuksella!
URL:https://ultra-lehti.com/event/hyvinvointitapahtuma-20-4-kuopio/
LOCATION:Hyvinvointitapahtuma Minnassa\, Haapaniemenkatu 18\, Kuopio\, 70110\, Suomi
ATTACH;FMTTYPE=image/png:https://ultra-lehti.com/wp-content/uploads/2024/02/hyvinvointitapahtuma-minnassa-someen-ja-nettiin.png
END:VEVENT
END:VCALENDAR